BEGIN:VCALENDAR
VERSION:2.0
PRODID:-//尺八演奏家 田辺恵山 official website - ECPv6.15.20//NONSGML v1.0//EN
CALSCALE:GREGORIAN
METHOD:PUBLISH
X-WR-CALNAME:尺八演奏家 田辺恵山 official website
X-ORIGINAL-URL:https://keizan-shakuhachi.com
X-WR-CALDESC:尺八演奏家 田辺恵山 official website のイベント
REFRESH-INTERVAL;VALUE=DURATION:PT1H
X-Robots-Tag:noindex
X-PUBLISHED-TTL:PT1H
BEGIN:VTIMEZONE
TZID:Asia/Tokyo
BEGIN:STANDARD
TZOFFSETFROM:+0900
TZOFFSETTO:+0900
TZNAME:JST
DTSTART:20250101T000000
END:STANDARD
END:VTIMEZONE
BEGIN:VEVENT
DTSTART;TZID=Asia/Tokyo:20260521T000000
DTEND;TZID=Asia/Tokyo:20260530T235959
DTSTAMP:20260422T184517
CREATED:20260420T105618Z
LAST-MODIFIED:20260420T120957Z
UID:456-1779321600-1780185599@keizan-shakuhachi.com
SUMMARY:音楽の時間 vol.7  【５月21日名古屋・22日京都・30日東京】
DESCRIPTION:音楽の時間 vol.7 野崎良太(Piano/Keyboards) 明日佳(箏)/田辺恵山（尺八）】 \n音楽の時間 vol.7は、野崎良太がJazztronikと並行して取り組んでいるプロジェクト「Hizuru」のライブを、名古屋、京都、東京の3都市で開催します。 \nHizuruは、箏、尺八、三味線といった日本の伝統楽器と、ジャズ、ミニマルミュージック、アンビエントの要素を掛け合わせたら、どのような音楽が生まれるのか。そんな実験的な発想からスタートしたプロジェクトです。\nファーストアルバム「飛鶴」は、ヨーロッパやアメリカの音楽ファンのあいだで大きな話題を呼び、現在はセカンドアルバムの制作も進んでいます。\n今回はHizuruのメンバーである明日佳（箏）、田辺恵山（尺八）を迎えたトリオ編成で、その音楽をお届けします。 \n５月２１日（木）名古屋\n５月２２日（金）京都\n５月３０日（土）東京 \n 
URL:https://keizan-shakuhachi.com/event/%e9%9f%b3%e6%a5%bd%e3%81%ae%e6%99%82%e9%96%93-vol-7-%e3%80%90%e9%87%8e%e5%b4%8e%e8%89%af%e5%a4%aapiano-keyboards-%e6%98%8e%e6%97%a5%e4%bd%b3%e7%ae%8f-%e7%94%b0%e8%be%ba%e6%81%b5%e5%b1%b1%ef%bc%88/
END:VEVENT
BEGIN:VEVENT
DTSTART;TZID=Asia/Tokyo:20260613T000000
DTEND;TZID=Asia/Tokyo:20260613T235959
DTSTAMP:20260422T184517
CREATED:20260420T110637Z
LAST-MODIFIED:20260420T110637Z
UID:463-1781308800-1781395199@keizan-shakuhachi.com
SUMMARY:時を吹く　尺八が歩んできた時を響きで辿る
DESCRIPTION:尺八のソロコンサートです。\n古典から現代、そしてオリジナル作品まで、尺八が紡いできた“ 時間 ”をテーマにお届けします。 \n  \nチケットのご予約は下記のメールアドレスよりお申し込みください。 \nnorihiko.handa@e2m.mygbiz.com \n 
URL:https://keizan-shakuhachi.com/event/%e6%99%82%e3%82%92%e5%90%b9%e3%81%8f%e3%80%80%e5%b0%ba%e5%85%ab%e3%81%8c%e6%ad%a9%e3%82%93%e3%81%a7%e3%81%8d%e3%81%9f%e6%99%82%e3%82%92%e9%9f%bf%e3%81%8d%e3%81%a7%e8%be%bf%e3%82%8b/
END:VEVENT
BEGIN:VEVENT
DTSTART;TZID=Asia/Tokyo:20260716T190000
DTEND;TZID=Asia/Tokyo:20260716T190000
DTSTAMP:20260422T184517
CREATED:20260420T120412Z
LAST-MODIFIED:20260420T120412Z
UID:489-1784228400-1784228400@keizan-shakuhachi.com
SUMMARY:尺八ルネッサンスvol.1  創造の源泉
DESCRIPTION:一般社団法人　日本尺八演奏家ネットワークJSPN第７回定期公演 \nすみだトリフォニーホール　小ホール
URL:https://keizan-shakuhachi.com/event/%e5%b0%ba%e5%85%ab%e3%83%ab%e3%83%8d%e3%83%83%e3%82%b5%e3%83%b3%e3%82%b9vol-1-%e5%89%b5%e9%80%a0%e3%81%ae%e6%ba%90%e6%b3%89/
END:VEVENT
END:VCALENDAR